BEGIN:VCALENDAR
VERSION:2.0
PRODID:https://www.ost.ch/
METHOD:PUBLISH
BEGIN:VEVENT
UID:c75b7625f4e75f9b439e2064321e7979@ost.ch
LOCATION:Werdenbergstrasse 4, 9471 Buchs
SUMMARY:3.Metallografie-Treffen an der Fachhochschule OST
DESCRIPTION:Vortrag von Prof. Dr. Hadi Mozaffari-Jovein, Leiter des Instituts für Werkstoffe und Anwendungstechnik
an der Hochschule Furtwangen, über das Thema:
&quot;Additive Fertigungsverfahren: Prozesseinflüsse auf Materialeigenschaften&quot;
DTSTART:20231130T170000
DTEND:20231130T200000
DTSTAMP:20231117T103121
END:VEVENT
END:VCALENDAR
