BEGIN:VCALENDAR
VERSION:2.0
PRODID:https://www.ost.ch/
METHOD:PUBLISH
BEGIN:VEVENT
UID:fa3235289331c3ccb4c8f8be22ca578a@ost.ch
LOCATION:Online
SUMMARY:Infoanlass MAS Sinn- und wertorientiertes Führen
DESCRIPTION:Erfahren Sie alles über den MAS Sinn- und wertorientiertes Führen, den CAS Führen in Zeiten des Wandels und den CAS Identitätsorientiertes Führen. 
DTSTART:20261110T181500
DTEND:20261110T191500
DTSTAMP:20260415T171310
END:VEVENT
END:VCALENDAR
