BEGIN:VCALENDAR
VERSION:2.0
PRODID:https://www.ost.ch/
METHOD:PUBLISH
BEGIN:VEVENT
UID:59e2415e37a5f0acf87bacdde406e1f7@ost.ch
LOCATION: St.Gallen
SUMMARY:Ringvorlesung «Soziale Nachhaltigkeit &amp; Sozialer Zusammenhalt»
DESCRIPTION:Zukunftsbilder: Nachhaltige Narrative und Generationengerechtigkeit 
Sophie Rudolph, OST
DTSTART:20240523T170000
DTEND:20240523T183000
DTSTAMP:20240201T142608
END:VEVENT
END:VCALENDAR
