BEGIN:VCALENDAR
VERSION:2.0
PRODID:https://www.ost.ch/
METHOD:PUBLISH
BEGIN:VEVENT
UID:c112484600c49ad3e6971f1646cf3206@ost.ch
LOCATION: St.Gallen
SUMMARY:Ringvorlesung «Soziale Nachhaltigkeit &amp; Sozialer Zusammenhalt»
DESCRIPTION:Chancen und Risiken von Technologien – Gestaltung der Zukunft durch partizipative Technikfolgenabschätzung 
Clemens Mader, OST
DTSTART:20240516T170000
DTEND:20240516T183000
DTSTAMP:20240201T142628
END:VEVENT
END:VCALENDAR
