BEGIN:VCALENDAR
VERSION:2.0
PRODID:https://www.ost.ch/
METHOD:PUBLISH
BEGIN:VEVENT
UID:ddabe30dc14189ea11592d40aa9bd55f@ost.ch
LOCATION: St.Gallen
SUMMARY:Ringvorlesung «Soziale Nachhaltigkeit &amp; Sozialer Zusammenhalt»
DESCRIPTION:Podiumsdiskussion «Green Day» Faire Arbeitsbedingungen als Grundlage einer nachhaltigen Energiewende
Moderation: Tuğba Ayaz, freie Journalistin
Teilnehmende: Peppina Beeli, UNIA; Christoph Küffer, OST; Franziska Ryser, Nationalrätin Grüne; Marco Zahner, Energieagentur St.Gallen
DTSTART:20240502T170000
DTEND:20240502T183000
DTSTAMP:20240318T132937
END:VEVENT
END:VCALENDAR
