BEGIN:VCALENDAR
VERSION:2.0
PRODID:https://www.ost.ch/
METHOD:PUBLISH
BEGIN:VEVENT
UID:70c963b3e51ad2269555b466e2e0ac34@ost.ch
LOCATION:Oberseestrasse 10, 8640 Rapperswil
SUMMARY:Studierende stellen innovative Prototypen für Beyond Gravity und Stadler Rail vor
DESCRIPTION:Das Entwicklungsprojekt ist ein Highlight des Studiengangs Maschinentechnik | Innovation. Ein Jahr lang entwickeln die Studierenden einen Prototyp für eine Fragestellung eines Industriepartners. Am 29. Mai 2026 präsentieren die Teams ihre Arbeiten, die sie für die Firmen Beyond Gravity und Stadler Rail entwickelt haben. Alle Interessierten sind herzlich eingeladen. 
DTSTART:20260529T120000
DTEND:20260529T150000
DTSTAMP:20260424T143422
END:VEVENT
END:VCALENDAR
