BEGIN:VCALENDAR
VERSION:2.0
PRODID:https://www.ost.ch/
METHOD:PUBLISH
BEGIN:VEVENT
UID:68f61725f7e739660be190f04341d917@ost.ch
LOCATION:OST Campus Buchs
SUMMARY:Velo Check-Up &amp; reparieren
DESCRIPTION:Die mobile Fahrradwaschanlage von clean-your-bike und ein Team kompetenter Fahrradmechaniker sind vor Ort.
DTSTART:20260508T090000
DTEND:20260508T170000
DTSTAMP:20260424T150216
END:VEVENT
END:VCALENDAR
